BEGIN:VCALENDAR
VERSION:2.0
PRODID:-//Rolling River Events - ECPv6.15.1.1//NONSGML v1.0//EN
CALSCALE:GREGORIAN
METHOD:PUBLISH
X-WR-CALNAME:Rolling River Events
X-ORIGINAL-URL:https://www.rollingriverevents.com
X-WR-CALDESC:Events for Rolling River Events
REFRESH-INTERVAL;VALUE=DURATION:PT1H
X-Robots-Tag:noindex
X-PUBLISHED-TTL:PT1H
BEGIN:VTIMEZONE
TZID:UTC
BEGIN:STANDARD
TZOFFSETFROM:+0000
TZOFFSETTO:+0000
TZNAME:UTC
DTSTART:20200101T000000
END:STANDARD
END:VTIMEZONE
BEGIN:VEVENT
DTSTART;TZID=UTC:20201121T100000
DTEND;TZID=UTC:20201121T120000
DTSTAMP:20260423T160042
CREATED:20201105T155754Z
LAST-MODIFIED:20201105T160017Z
UID:1240-1605952800-1605960000@www.rollingriverevents.com
SUMMARY:2020 Turkey Trot Fun Run
DESCRIPTION:Run now\, gobble later! Join us for our first annual Turkey Trot Race on Saturday\, November 21\, 2020 (raindate Sunday\, November 22\, 2020). \nTickets are $20 per child and $15 per adult. Ticket price includes a kid’s Fun Run\, family races\, post race party\, snacks and more! Come dressed in your best turkey attire. Prizes will be given out for the most creative costumes in each age group. \nWe will have staggered start times and all safety protocols will be followed. Each session will last for one hour. To comply with COVID regulations\, only 50 tickets per session will be available. Children under 2 are free. Masks are required for ages 5 years old and up. Masks may be removed while racing. \nWe are asking families to bring non-perishable food items which will be donated to Gammy’s Pantry.  \nA portion of the proceeds will be donated to Rolling River’s “Campmates Scholarship Program.”
URL:https://www.rollingriverevents.com/event/2020-turkey-trot-fun-run/
LOCATION:Rolling River Day Camp\, 477 Ocean Avenue\, East Rockaway\, NY\, 11518\, United States
ORGANIZER;CN="Rolling River Events":MAILTO:events@rollingriver.com
END:VEVENT
END:VCALENDAR